BEGIN:VCALENDAR
VERSION:2.0
PRODID:-//Dirección General de Vinculación con el Medio de la Universidad de Playa Ancha - ECPv6.15.20//NONSGML v1.0//EN
CALSCALE:GREGORIAN
METHOD:PUBLISH
X-ORIGINAL-URL:https://upla.cl/vinculacion
X-WR-CALDESC:Eventos para Dirección General de Vinculación con el Medio de la Universidad de Playa Ancha
REFRESH-INTERVAL;VALUE=DURATION:PT1H
X-Robots-Tag:noindex
X-PUBLISHED-TTL:PT1H
BEGIN:VTIMEZONE
TZID:America/Santiago
BEGIN:STANDARD
TZOFFSETFROM:-0300
TZOFFSETTO:-0400
TZNAME:-04
DTSTART:20240407T030000
END:STANDARD
BEGIN:DAYLIGHT
TZOFFSETFROM:-0400
TZOFFSETTO:-0300
TZNAME:-03
DTSTART:20240908T040000
END:DAYLIGHT
BEGIN:STANDARD
TZOFFSETFROM:-0300
TZOFFSETTO:-0400
TZNAME:-04
DTSTART:20250406T030000
END:STANDARD
BEGIN:DAYLIGHT
TZOFFSETFROM:-0400
TZOFFSETTO:-0300
TZNAME:-03
DTSTART:20250907T040000
END:DAYLIGHT
BEGIN:STANDARD
TZOFFSETFROM:-0300
TZOFFSETTO:-0400
TZNAME:-04
DTSTART:20260405T030000
END:STANDARD
BEGIN:DAYLIGHT
TZOFFSETFROM:-0400
TZOFFSETTO:-0300
TZNAME:-03
DTSTART:20260906T040000
END:DAYLIGHT
END:VTIMEZONE
BEGIN:VEVENT
DTSTART;TZID=America/Santiago:20251217T161000
DTEND;TZID=America/Santiago:20251217T173000
DTSTAMP:20260421T181428
CREATED:20251215T133848Z
LAST-MODIFIED:20251215T135452Z
UID:17231549-1765987800-1765992600@upla.cl
SUMMARY:Cierre del proyecto Social CreaLab 2025 “Investigación-Acción para la mejora educativa”
DESCRIPTION:Ceremonia de cierre del proyecto Social CreaLab 2025 “Fortalecimiento del Desarrollo Profesional Docente a través de la Metodología de Investigación-Acción en la Escuela Intercultural Carabinero Pedro Cariaga del Servicio Local de Educación Pública de Valparaíso-Juan Fernández”.
URL:https://upla.cl/vinculacion/evento/cierre-del-proyecto-social-crealab-2025-fortalecimiento-del-desarrollo-profesional-docente-a-traves-de-la-metodologia-de-investigacion-accion-en-la-escuela-intercultural-carabinero-pedro-cari/
LOCATION:Auditorio de la Facultad de Ciencias de la Educación UPLA\, Av. Playa Ancha #850\, Valparaíso
CATEGORIES:Fondo Social CreaLab
ATTACH;FMTTYPE=image/jpeg:https://upla.cl/vinculacion/wp-content/uploads/2025/12/INVITACION-CEREMONIA-PROYECTO-CREALAB17.DIC_.2025-UPLA-1-scaled.jpg
ORGANIZER;CN="Jos%C3%A9 Cerpa L%C3%B3pez":MAILTO:jose.cerpa@upla.cl
END:VEVENT
BEGIN:VEVENT
DTSTART;TZID=America/Santiago:20251219T150000
DTEND;TZID=America/Santiago:20251219T170000
DTSTAMP:20260421T181428
CREATED:20251216T150204Z
LAST-MODIFIED:20251222T111443Z
UID:17231839-1766156400-1766163600@upla.cl
SUMMARY:Cierre del proyecto Social CreaLab 2025 "Necrópolis de Playa Ancha"
DESCRIPTION:Tenemos el agrado de invitarle a la ceremonia de cierre del proyecto «Necrópolis de Playa Ancha»\, iniciativa desarrollada en el marco del Fondo Social CreaLab 2025 de la Universidad de Playa Ancha\, con la participación creadora de estudiantes de la carrera Dibujante Proyectista y de la Facultad de Arte de nuestra casa de estudio. \nEste proyecto ha buscado enlazar la memoria y significado de las sociedades obreras de Valparaíso con nuestro presente de registro\, reconocimiento y valoración. \nLa ceremonia se realizará el viernes 19 de diciembre\, a las 15:00 horas\, en el Aula Magna «Dr. Félix Morales Pettorino» de la Universidad de Playa Ancha. \nAgradecemos su presencia en este momento de cierre y celebración compartida.
URL:https://upla.cl/vinculacion/evento/cierre-del-proyecto-social-crealab-2025-necropolis-de-playa-ancha/
LOCATION:Aula Dr. Félix Morales Pettorino\, Av. Playa Ancha #850\, Valparaíso\, Chile
CATEGORIES:Fondo Social CreaLab
ATTACH;FMTTYPE=image/jpeg:https://upla.cl/vinculacion/wp-content/uploads/2025/12/01.60x40-cm.-Sociedad-Musical-SM.jpg
ORGANIZER;CN="Ram%C3%B3n L%C3%B3pez":MAILTO:ramon.lopez@upla.cl
END:VEVENT
END:VCALENDAR