BEGIN:VCALENDAR
VERSION:2.0
PRODID:-//Dirección General de Vinculación con el Medio de la Universidad de Playa Ancha - ECPv6.15.20//NONSGML v1.0//EN
CALSCALE:GREGORIAN
METHOD:PUBLISH
X-WR-CALNAME:Dirección General de Vinculación con el Medio de la Universidad de Playa Ancha
X-ORIGINAL-URL:https://upla.cl/vinculacion
X-WR-CALDESC:Eventos para Dirección General de Vinculación con el Medio de la Universidad de Playa Ancha
REFRESH-INTERVAL;VALUE=DURATION:PT1H
X-Robots-Tag:noindex
X-PUBLISHED-TTL:PT1H
BEGIN:VTIMEZONE
TZID:America/Santiago
BEGIN:STANDARD
TZOFFSETFROM:-0300
TZOFFSETTO:-0400
TZNAME:-04
DTSTART:20250406T030000
END:STANDARD
BEGIN:DAYLIGHT
TZOFFSETFROM:-0400
TZOFFSETTO:-0300
TZNAME:-03
DTSTART:20250907T040000
END:DAYLIGHT
BEGIN:STANDARD
TZOFFSETFROM:-0300
TZOFFSETTO:-0400
TZNAME:-04
DTSTART:20260405T030000
END:STANDARD
BEGIN:DAYLIGHT
TZOFFSETFROM:-0400
TZOFFSETTO:-0300
TZNAME:-03
DTSTART:20260906T040000
END:DAYLIGHT
BEGIN:STANDARD
TZOFFSETFROM:-0300
TZOFFSETTO:-0400
TZNAME:-04
DTSTART:20270404T030000
END:STANDARD
BEGIN:DAYLIGHT
TZOFFSETFROM:-0400
TZOFFSETTO:-0300
TZNAME:-03
DTSTART:20270905T040000
END:DAYLIGHT
END:VTIMEZONE
BEGIN:VEVENT
DTSTART;VALUE=DATE:20260123
DTEND;VALUE=DATE:20260228
DTSTAMP:20260425T093812
CREATED:20260115T134429Z
LAST-MODIFIED:20260302T133720Z
UID:17232990-1769126400-1772236799@upla.cl
SUMMARY:Receso universitario
DESCRIPTION:Nos encontramos en receso universitario desde el 23 de enero hasta el 02 de marzo. \nNos vemos!
URL:https://upla.cl/vinculacion/evento/receso-universitario/
ATTACH;FMTTYPE=image/jpeg:https://upla.cl/vinculacion/wp-content/uploads/2019/01/upla_casacentral_noche.jpg
END:VEVENT
END:VCALENDAR